BEGIN:VCALENDAR
VERSION:2.0
PRODID:-//SIP Forum - ECPv6.15.20//NONSGML v1.0//EN
CALSCALE:GREGORIAN
METHOD:PUBLISH
X-WR-CALNAME:SIP Forum
X-ORIGINAL-URL:https://www.sipforum.org
X-WR-CALDESC:Events for SIP Forum
REFRESH-INTERVAL;VALUE=DURATION:PT1H
X-Robots-Tag:noindex
X-PUBLISHED-TTL:PT1H
BEGIN:VTIMEZONE
TZID:America/New_York
BEGIN:DAYLIGHT
TZOFFSETFROM:-0500
TZOFFSETTO:-0400
TZNAME:EDT
DTSTART:20250309T070000
END:DAYLIGHT
BEGIN:STANDARD
TZOFFSETFROM:-0400
TZOFFSETTO:-0500
TZNAME:EST
DTSTART:20251102T060000
END:STANDARD
BEGIN:DAYLIGHT
TZOFFSETFROM:-0500
TZOFFSETTO:-0400
TZNAME:EDT
DTSTART:20260308T070000
END:DAYLIGHT
BEGIN:STANDARD
TZOFFSETFROM:-0400
TZOFFSETTO:-0500
TZNAME:EST
DTSTART:20261101T060000
END:STANDARD
BEGIN:DAYLIGHT
TZOFFSETFROM:-0500
TZOFFSETTO:-0400
TZNAME:EDT
DTSTART:20270314T070000
END:DAYLIGHT
BEGIN:STANDARD
TZOFFSETFROM:-0400
TZOFFSETTO:-0500
TZNAME:EST
DTSTART:20271107T060000
END:STANDARD
END:VTIMEZONE
BEGIN:VEVENT
DTSTART;TZID=America/New_York:20260519T100000
DTEND;TZID=America/New_York:20260521T153000
DTSTAMP:20260420T071040
CREATED:20260204T183421Z
LAST-MODIFIED:20260417T183925Z
UID:5532-1779184800-1779377400@www.sipforum.org
SUMMARY:BRANDED CALLING SUMMIT 2026
DESCRIPTION:This special virtual event\, scheduled  May 19-21th\, 2026\, will focus on new Branded Calling solutions\, opportunities and best practices; the associated benefits\, issues and challenges involving effective identity verification in the branded calling ecosystem\, as well as current governmental regulatory\, enforcement and legislative actions and considerations such as the FCC’s October 2025 Call Branding Further Notice of Proposed Rulemaking. \nIn addition\, BRANDED CALLING SUMMIT 2026 will also focus on renewed efforts to accelerate the nation’s communications infrastructure to All IP – including coverage of actions taken by the Federal Communications Commission\, such as the FCC’s October 2025 Advancing IP Interconnection Notice of Proposed Rulemaking. and new work by the SIP Forum/ATIS IP-NNI Task Force to help accelerate the transition to All IP – specifically the “Agreement-Less IP Interconnection over the Internet” or ALIII (an acronym pronounced the same as the word “allies”) industry agreement designed to accelerate the transition of interconnects between Approved Voice Service Providers (AVSPs) from Time-Division Multiplexing (TDM) interconnects to Internet Protocol (IP) interconnects. \nThe Full Agenda and registrations for the BRANDED CALLING SUMMIT 2026 webinars will be officially live in mid-April 2026\, roughly three weeks prior to the start of the event. Please note that All registrations will be completely FREE\, and you are welcome to register for as many webinars as you wish to attend! \nFor more information\, visit the BRANDED CALLING SUMMIT 2026 overview webpage\, send an email to brandedcallingsummit@sipforum.org or call +1-203-829-6307.
URL:https://www.sipforum.org/event/branded-calling-summit-2026/
LOCATION:Virtual Event
ATTACH;FMTTYPE=image/jpeg:https://www.sipforum.org/wp-content/uploads/2026/04/BCSummit-728x90-ldbd2.jpg
ORGANIZER;CN="SIP Forum":MAILTO:marc.robins@sipforum.org
END:VEVENT
END:VCALENDAR