BEGIN:VCALENDAR
VERSION:2.0
PRODID:-//SIP Forum - ECPv6.15.20//NONSGML v1.0//EN
CALSCALE:GREGORIAN
METHOD:PUBLISH
X-WR-CALNAME:SIP Forum
X-ORIGINAL-URL:https://www.sipforum.org
X-WR-CALDESC:Events for SIP Forum
REFRESH-INTERVAL;VALUE=DURATION:PT1H
X-Robots-Tag:noindex
X-PUBLISHED-TTL:PT1H
BEGIN:VTIMEZONE
TZID:America/New_York
BEGIN:DAYLIGHT
TZOFFSETFROM:-0500
TZOFFSETTO:-0400
TZNAME:EDT
DTSTART:20240310T070000
END:DAYLIGHT
BEGIN:STANDARD
TZOFFSETFROM:-0400
TZOFFSETTO:-0500
TZNAME:EST
DTSTART:20241103T060000
END:STANDARD
BEGIN:DAYLIGHT
TZOFFSETFROM:-0500
TZOFFSETTO:-0400
TZNAME:EDT
DTSTART:20250309T070000
END:DAYLIGHT
BEGIN:STANDARD
TZOFFSETFROM:-0400
TZOFFSETTO:-0500
TZNAME:EST
DTSTART:20251102T060000
END:STANDARD
BEGIN:DAYLIGHT
TZOFFSETFROM:-0500
TZOFFSETTO:-0400
TZNAME:EDT
DTSTART:20260308T070000
END:DAYLIGHT
BEGIN:STANDARD
TZOFFSETFROM:-0400
TZOFFSETTO:-0500
TZNAME:EST
DTSTART:20261101T060000
END:STANDARD
END:VTIMEZONE
BEGIN:VEVENT
DTSTART;TZID=America/New_York:20250408T100000
DTEND;TZID=America/New_York:20250410T153000
DTSTAMP:20260422T112624
CREATED:20241217T145244Z
LAST-MODIFIED:20250313T164033Z
UID:5282-1744106400-1744299000@www.sipforum.org
SUMMARY:BRANDED CALLING SUMMIT 2025
DESCRIPTION:This special virtual event\, scheduled April 8-10\, 2025\,  is focused on the exciting new breed of Branded Calling communications services in the marketplace that promise to add dramatic increases in value\, trust and transparency to business-to-consumer communications. \nThis next iteration of the SIP Forum’s acclaimed virtual SUMMITS will feature a series of free-to-attend webinars\, presented by the experts and companies leading the development of branded calling telecommunications services\, the authors and contributors of enabling RCD (Rich Call Data) standards work\, thought leaders on the critical role of identity verification\, KYC and call vetting in the branded calling ecosystem\, and key government regulators. \nRegistrations for the BRANDED CALLING SUMMIT webinars are officially open! Register for as many as you like — all registrations are FREE. \nVisit the BRANDED CALLING  SUMMIT Agenda webpage here to register today! \nFor more information\, visit the BRANDED CALLING SUMMIT 2025 event overview webpage\, send an email to brandedcallingsummit@sipforum.org\, or call +1-203-829-6307. \n 
URL:https://www.sipforum.org/event/branded-calling-summit-2025/
LOCATION:Virtual Event
ATTACH;FMTTYPE=image/jpeg:https://www.sipforum.org/wp-content/uploads/2025/03/BCSummit-728x90-ldbd_new.jpg
ORGANIZER;CN="SIP Forum":MAILTO:marc.robins@sipforum.org
END:VEVENT
END:VCALENDAR